BEGIN:VCALENDAR
VERSION:2.0
PRODID:-//ChamberMaster//Event Calendar 2.0//EN
METHOD:PUBLISH
X-PUBLISHED-TTL:P1H
REFRESH-INTERVAL:P1H
CALSCALE:GREGORIAN
BEGIN:VTIMEZONE
TZID:America/New_York
BEGIN:DAYLIGHT
RRULE:FREQ=YEARLY;BYMONTH=3;BYDAY=2SU
DTSTART:20070101T000000
TZOFFSETFROM:-0500
TZOFFSETTO:-0400
TZNAME:Eastern Daylight Time
END:DAYLIGHT
BEGIN:STANDARD
RRULE:FREQ=YEARLY;BYMONTH=11;BYDAY=1SU
DTSTART:20070101T000000
TZOFFSETFROM:-0400
TZOFFSETTO:-0500
TZNAME:Eastern Standard Time
END:STANDARD
END:VTIMEZONE
BEGIN:VEVENT
DTSTART;TZID=America/New_York:20260328T090000
DTEND;TZID=America/New_York:20260328T120000
X-MICROSOFT-CDO-ALLDAYEVENT:FALSE
SUMMARY:Greenville Fresh Farmer's Market
DESCRIPTION:
X-ALT-DESC;FMTTYPE=text/html:
LOCATION:1344 SW Grand St. Greenville 32331
UID:e.3628.1414536
SEQUENCE:3
DTSTAMP:20260420T094343Z
URL:https://business.visitmadisonfl.com/events/Details/greenville-fresh-farmer-s-market-1671551?sourceTypeId=Hub
END:VEVENT
END:VCALENDAR
