BEGIN:VCALENDAR
VERSION:2.0
PRODID:-//ChamberMaster//Event Calendar 2.0//EN
METHOD:PUBLISH
X-PUBLISHED-TTL:P1H
REFRESH-INTERVAL:P1H
CALSCALE:GREGORIAN
BEGIN:VTIMEZONE
TZID:America/New_York
BEGIN:DAYLIGHT
RRULE:FREQ=YEARLY;BYMONTH=3;BYDAY=2SU
DTSTART:20070101T000000
TZOFFSETFROM:-0500
TZOFFSETTO:-0400
TZNAME:Eastern Daylight Time
END:DAYLIGHT
BEGIN:STANDARD
RRULE:FREQ=YEARLY;BYMONTH=11;BYDAY=1SU
DTSTART:20070101T000000
TZOFFSETFROM:-0400
TZOFFSETTO:-0500
TZNAME:Eastern Standard Time
END:STANDARD
END:VTIMEZONE
BEGIN:VEVENT
DTSTART;TZID=America/New_York:20250927T183000
DTEND;TZID=America/New_York:20250927T203000
X-MICROSOFT-CDO-ALLDAYEVENT:FALSE
SUMMARY:Madison County Democratic Party "Like minded
DESCRIPTION:Like Minded Folks Social: Calling all people for conversation and fun! We'll meet to find new friends and convivial talk.
X-ALT-DESC;FMTTYPE=text/html:Like Minded Folks Social: Calling all people for conversation and fun! We'll meet to find new friends and convivial talk.
LOCATION:141 SE Range Ave. Madison
UID:e.3628.1273324
SEQUENCE:3
DTSTAMP:20260420T083308Z
URL:https://business.visitmadisonfl.com/events/Details/madison-county-democratic-party-like-minded-1490975?sourceTypeId=Hub
END:VEVENT
END:VCALENDAR
